BEGIN:VCALENDAR
VERSION:2.0
PRODID:-//Bennett Spring State Park - ECPv6.15.20//NONSGML v1.0//EN
CALSCALE:GREGORIAN
METHOD:PUBLISH
X-WR-CALNAME:Bennett Spring State Park
X-ORIGINAL-URL:https://bennettspringstatepark.org
X-WR-CALDESC:Events for Bennett Spring State Park
REFRESH-INTERVAL;VALUE=DURATION:PT1H
X-Robots-Tag:noindex
X-PUBLISHED-TTL:PT1H
BEGIN:VTIMEZONE
TZID:America/Chicago
BEGIN:DAYLIGHT
TZOFFSETFROM:-0600
TZOFFSETTO:-0500
TZNAME:CDT
DTSTART:20250309T080000
END:DAYLIGHT
BEGIN:STANDARD
TZOFFSETFROM:-0500
TZOFFSETTO:-0600
TZNAME:CST
DTSTART:20251102T070000
END:STANDARD
BEGIN:DAYLIGHT
TZOFFSETFROM:-0600
TZOFFSETTO:-0500
TZNAME:CDT
DTSTART:20260308T080000
END:DAYLIGHT
BEGIN:STANDARD
TZOFFSETFROM:-0500
TZOFFSETTO:-0600
TZNAME:CST
DTSTART:20261101T070000
END:STANDARD
BEGIN:DAYLIGHT
TZOFFSETFROM:-0600
TZOFFSETTO:-0500
TZNAME:CDT
DTSTART:20270314T080000
END:DAYLIGHT
BEGIN:STANDARD
TZOFFSETFROM:-0500
TZOFFSETTO:-0600
TZNAME:CST
DTSTART:20271107T070000
END:STANDARD
END:VTIMEZONE
BEGIN:VEVENT
DTSTART;TZID=America/Chicago:20260607T063000
DTEND;TZID=America/Chicago:20260607T203000
DTSTAMP:20260421T152823
CREATED:20260401T201810Z
LAST-MODIFIED:20260401T201810Z
UID:3152-1780813800-1780864200@bennettspringstatepark.org
SUMMARY:State Free Fishing June 6 & 7
DESCRIPTION:Everyone fishes for free.  Rules and regulations apply.  Each fisher person needs their own stringer with name/address and phone number
URL:https://bennettspringstatepark.org/event/state-free-fishing-june-6-7-2/
END:VEVENT
END:VCALENDAR