BEGIN:VCALENDAR
VERSION:2.0
PRODID:-//Bennett Spring State Park - ECPv6.15.20//NONSGML v1.0//EN
CALSCALE:GREGORIAN
METHOD:PUBLISH
X-WR-CALNAME:Bennett Spring State Park
X-ORIGINAL-URL:https://bennettspringstatepark.org
X-WR-CALDESC:Events for Bennett Spring State Park
REFRESH-INTERVAL;VALUE=DURATION:PT1H
X-Robots-Tag:noindex
X-PUBLISHED-TTL:PT1H
BEGIN:VTIMEZONE
TZID:UTC
BEGIN:STANDARD
TZOFFSETFROM:+0000
TZOFFSETTO:+0000
TZNAME:UTC
DTSTART:20230101T000000
END:STANDARD
END:VTIMEZONE
BEGIN:VEVENT
DTSTART;VALUE=DATE:20240625
DTEND;VALUE=DATE:20240627
DTSTAMP:20260421T162558
CREATED:20240605T034355Z
LAST-MODIFIED:20240605T214443Z
UID:3018-1719273600-1719446399@bennettspringstatepark.org
SUMMARY:Weed Cutting
DESCRIPTION:Cutting the moss/weeds in the stream.
URL:https://bennettspringstatepark.org/event/weed-cutting/
END:VEVENT
BEGIN:VEVENT
DTSTART;VALUE=DATE:20240608
DTEND;VALUE=DATE:20240610
DTSTAMP:20260421T162558
CREATED:20240605T214617Z
LAST-MODIFIED:20240605T214617Z
UID:3039-1717804800-1717977599@bennettspringstatepark.org
SUMMARY:Everyone Fish for Free
DESCRIPTION:No tags or license required.
URL:https://bennettspringstatepark.org/event/everyone-fish-for-free/
END:VEVENT
END:VCALENDAR