BEGIN:VCALENDAR
VERSION:2.0
PRODID:-//Bennett Spring State Park - ECPv6.15.20//NONSGML v1.0//EN
CALSCALE:GREGORIAN
METHOD:PUBLISH
X-ORIGINAL-URL:https://bennettspringstatepark.org
X-WR-CALDESC:Events for Bennett Spring State Park
REFRESH-INTERVAL;VALUE=DURATION:PT1H
X-Robots-Tag:noindex
X-PUBLISHED-TTL:PT1H
BEGIN:VTIMEZONE
TZID:America/Chicago
BEGIN:DAYLIGHT
TZOFFSETFROM:-0600
TZOFFSETTO:-0500
TZNAME:CDT
DTSTART:20260308T080000
END:DAYLIGHT
BEGIN:STANDARD
TZOFFSETFROM:-0500
TZOFFSETTO:-0600
TZNAME:CST
DTSTART:20261101T070000
END:STANDARD
BEGIN:DAYLIGHT
TZOFFSETFROM:-0600
TZOFFSETTO:-0500
TZNAME:CDT
DTSTART:20270314T080000
END:DAYLIGHT
BEGIN:STANDARD
TZOFFSETFROM:-0500
TZOFFSETTO:-0600
TZNAME:CST
DTSTART:20271107T070000
END:STANDARD
BEGIN:DAYLIGHT
TZOFFSETFROM:-0600
TZOFFSETTO:-0500
TZNAME:CDT
DTSTART:20280312T080000
END:DAYLIGHT
BEGIN:STANDARD
TZOFFSETFROM:-0500
TZOFFSETTO:-0600
TZNAME:CST
DTSTART:20281105T070000
END:STANDARD
END:VTIMEZONE
BEGIN:VEVENT
DTSTART;TZID=America/Chicago:20270301T000000
DTEND;TZID=America/Chicago:20270301T190000
DTSTAMP:20260421T155557
CREATED:20260401T203316Z
LAST-MODIFIED:20260401T203411Z
UID:3170-1803859200-1803927600@bennettspringstatepark.org
SUMMARY:Trout Season Begins
DESCRIPTION:Park store will be open on the 28th of February until March 1 at 7 p.m.  Get your tags for fishing and have a great season!
URL:https://bennettspringstatepark.org/event/trout-season-begins/
END:VEVENT
END:VCALENDAR